BEGIN:VCALENDAR
VERSION:2.0
PRODID:-//ChamberMaster//Event Calendar 2.0//EN
METHOD:PUBLISH
X-PUBLISHED-TTL:P3D
REFRESH-INTERVAL:P3D
CALSCALE:GREGORIAN
BEGIN:VEVENT
DTSTART:20260421T140000Z
DTEND:20260425T223000Z
X-MICROSOFT-CDO-ALLDAYEVENT:FALSE
SUMMARY:Estate Jewelry Sale
DESCRIPTION:It's that time of year again for our popular Estate Jewelry Sale. Don't miss out! With gold and silver prices up\, now is the perfect time to shop our preloved jewelry and save money. So many beautiful pieces to choose from in gold and silver\, modern and vintage styles. There is something for everyone! Costume jewelry treasures under $20
X-ALT-DESC;FMTTYPE=text/html:<span style="color: rgb(8\, 8\, 9)\; font-family: &quot\;Segoe UI Historic&quot\;\, &quot\;Segoe UI&quot\;\, Helvetica\, Arial\, sans-serif\; font-size: 15px\;">It&#39\;s that time of year again for our popular Estate Jewelry Sale. Don&#39\;t miss out! With gold and silver prices up\, now is the perfect time to shop our preloved jewelry and save money. So many beautiful pieces to choose from in gold and silver\, modern and vintage styles. There is something for everyone! Costume jewelry treasures under $20</span>
LOCATION:111 S Main St Oregon\, WI 53575
UID:e.1255.15973
SEQUENCE:3
DTSTAMP:20260422T192006Z
URL:https://business.oregonwi.com/events/details/estate-jewelry-sale-15973
END:VEVENT

END:VCALENDAR
