BEGIN:VCALENDAR
VERSION:2.0
PRODID:-//ChamberMaster//Event Calendar 2.0//EN
METHOD:PUBLISH
X-PUBLISHED-TTL:P3D
REFRESH-INTERVAL:P3D
CALSCALE:GREGORIAN
BEGIN:VEVENT
DTSTART:20260424T000000Z
DTEND:20260424T013000Z
X-MICROSOFT-CDO-ALLDAYEVENT:FALSE
SUMMARY:Flow Art Paint Pour
DESCRIPTION:Make your own flowing acrylic painting! We will use the flip cup method on an 8x8" canvas Instructor Emma will walk you through every step.
X-ALT-DESC;FMTTYPE=text/html:<span style="color: rgb(8\, 8\, 9)\; font-family: &quot\;Segoe UI Historic&quot\;\, &quot\;Segoe UI&quot\;\, Helvetica\, Arial\, sans-serif\; font-size: 15px\;">Make your own flowing acrylic painting! We will use the flip cup method on an 8x8&quot\; canvas Instructor Emma will walk you through every step.</span>
LOCATION:BadArtCo 787 N Main St #105 Oregon\, WI
UID:e.1255.15971
SEQUENCE:3
DTSTAMP:20260420T182730Z
URL:https://business.oregonwi.com/events/details/flow-art-paint-pour-15971
END:VEVENT

END:VCALENDAR
