BEGIN:VCALENDAR
VERSION:2.0
PRODID:-//ChamberMaster//Event Calendar 2.0//EN
METHOD:PUBLISH
X-PUBLISHED-TTL:P3D
REFRESH-INTERVAL:P3D
CALSCALE:GREGORIAN
BEGIN:VEVENT
DTSTART:20260426T190000Z
DTEND:20260426T220000Z
X-MICROSOFT-CDO-ALLDAYEVENT:FALSE
SUMMARY:Junk Journal Club
DESCRIPTION:Junk journaling is a creative practice of making a journal/sketchbook from found\, recycled\, and traditional art materials. Bring yours or start a new one! Join us anytime between 2 and 5pm for this laid back Open Studio type event\, every fourth Sunday. Older kids welcome with adult
X-ALT-DESC;FMTTYPE=text/html:<span style="color: rgb(119\, 0\, 196)\; font-family: questrial\, sans-serif\; font-size: 16px\; white-space: pre-line\;">Junk journaling is a creative practice of making a journal/sketchbook from found\, recycled\, and traditional art materials. Bring yours or start a new one! Join us anytime between 2 and 5pm for this laid back Open Studio type event\, every fourth Sunday. Older kids welcome with adult</span>
LOCATION:Bad Art Co\, 787 N Main St Suite 105\, Oregon\, WI 53575
UID:e.1255.16185
SEQUENCE:3
DTSTAMP:20260424T081952Z
URL:https://business.oregonwi.com/events/details/junk-journal-club-16185
END:VEVENT

END:VCALENDAR
