BEGIN:VCALENDAR
VERSION:2.0
PRODID:-//ChamberMaster//Event Calendar 2.0//EN
METHOD:PUBLISH
X-PUBLISHED-TTL:P3D
REFRESH-INTERVAL:P3D
CALSCALE:GREGORIAN
BEGIN:VEVENT
DTSTART:20260425T150000Z
DTEND:20260425T170000Z
X-MICROSOFT-CDO-ALLDAYEVENT:FALSE
SUMMARY:Kids Fest
DESCRIPTION:The Village of Oregon is thrilled to launch Kids Fest\, a brand-new event designed to bring families together for a morning of play\, discovery\, and community connection.\n\nJoin us for hands-on activities\, interactive booths\, and fun experiences for kids of all ages while also exploring the many local resources available to support families right here in Oregon.\n\nWant to be part of the fun?\n\nWe're inviting local organizations\, businesses\, and groups to participate at no cost! This is a great opportunity to connect with families\, share what you offer\, and be part of something special in our community.
X-ALT-DESC;FMTTYPE=text/html:<div class="xdj266r x14z9mp xat24cr x1lziwak x1vvkbs" style="margin-inline: 0px\; overflow-wrap: break-word\; margin-bottom: 0px\; margin-top: 0px\; font-family: &quot\;Segoe UI Historic&quot\;\, &quot\;Segoe UI&quot\;\, Helvetica\, Arial\, sans-serif\; color: rgb(8\, 8\, 9)\; font-size: 15px\; animation-name: none !important\; transition-property: none !important\;">The Village of Oregon is thrilled to launch Kids Fest\, a brand-new event designed to bring families together for a morning of play\, discovery\, and community connection.</div>\n\n<div class="x14z9mp xat24cr x1lziwak x1vvkbs xtlvy1s" style="margin-inline: 0px\; overflow-wrap: break-word\; margin-bottom: 0px\; margin-top: 0.5em\; font-family: &quot\;Segoe UI Historic&quot\;\, &quot\;Segoe UI&quot\;\, Helvetica\, Arial\, sans-serif\; color: rgb(8\, 8\, 9)\; font-size: 15px\; animation-name: none !important\; transition-property: none !important\;">Join us for hands-on activities\, interactive booths\, and fun experiences for kids of all ages&mdash\;while also exploring the many local resources available to support families right here in Oregon.<br class="html-br" style="animation-name: none !important\; transition-property: none !important\;" />\nWant to be part of the fun?</div>\n\n<div class="x14z9mp xat24cr x1lziwak x1vvkbs xtlvy1s" style="margin-inline: 0px\; overflow-wrap: break-word\; margin-bottom: 0px\; margin-top: 0.5em\; font-family: &quot\;Segoe UI Historic&quot\;\, &quot\;Segoe UI&quot\;\, Helvetica\, Arial\, sans-serif\; color: rgb(8\, 8\, 9)\; font-size: 15px\; animation-name: none !important\; transition-property: none !important\;">We&rsquo\;re inviting local organizations\, businesses\, and groups to participate&mdash\;at no cost! This is a great opportunity to connect with families\, share what you offer\, and be part of something special in our community.</div>\n
LOCATION:Jaycee Park N Perry Parkway
UID:e.1255.16182
SEQUENCE:3
DTSTAMP:20260422T191834Z
URL:https://business.oregonwi.com/events/details/kids-fest-16182
END:VEVENT

END:VCALENDAR
