BEGIN:VCALENDAR
VERSION:2.0
PRODID:-//ChamberMaster//Event Calendar 2.0//EN
METHOD:PUBLISH
X-PUBLISHED-TTL:P3D
REFRESH-INTERVAL:P3D
CALSCALE:GREGORIAN
BEGIN:VEVENT
DTSTART:20250105T191500Z
DTEND:20250105T210000Z
X-MICROSOFT-CDO-ALLDAYEVENT:FALSE
SUMMARY:Knights of Columbus Free Throw Competition
DESCRIPTION:Girls and Boys are invited to participate. Ages 9 to 14 (as of January 1st)
X-ALT-DESC;FMTTYPE=text/html:Girls and Boys are invited to participate. Ages 9 to 14 (as of January 1st)
LOCATION:Prairie View Elementary Big Gym 300 Soden Drive\, Oregon
UID:e.1255.14993
SEQUENCE:3
DTSTAMP:20260422T110513Z
URL:https://business.oregonwi.com/events/details/knights-of-columbus-free-throw-competition-14993
END:VEVENT

END:VCALENDAR
