BEGIN:VCALENDAR
VERSION:2.0
PRODID:-//ChamberMaster//Event Calendar 2.0//EN
METHOD:PUBLISH
X-PUBLISHED-TTL:P3D
REFRESH-INTERVAL:P3D
CALSCALE:GREGORIAN
BEGIN:VEVENT
DTSTART:20260425T230000Z
DTEND:20260426T010000Z
X-MICROSOFT-CDO-ALLDAYEVENT:FALSE
SUMMARY:OPI Trivia Night
DESCRIPTION:Oregon Preschool's wildly fun\, adults-only Trivia Night is back! Join us for a night of laughter and friendly competition with a little OPI silliness sprinkled in! Reserve your spot by emailing oregonpreschoolinc@gmail.com. You can build a team of up to 10 people\, or if you'd like to play but don't have a team\, we'll try to group you. Space is limited\, so register today
X-ALT-DESC;FMTTYPE=text/html:<span style="color: rgb(8\, 8\, 9)\; font-family: &quot\;Segoe UI Historic&quot\;\, &quot\;Segoe UI&quot\;\, Helvetica\, Arial\, sans-serif\; font-size: 15px\;">Oregon Preschool&#39\;s wildly fun\, adults-only Trivia Night is back! Join us for a night of laughter and friendly competition with a little OPI silliness sprinkled in! Reserve your spot by emailing oregonpreschoolinc@gmail.com. You can build a team of up to 10 people\, or if you&#39\;d like to play but don&#39\;t have a team\, we&#39\;ll try to group you. Space is limited\, so register today</span>
LOCATION:Anchor Club II 112 Hotel St Brooklyn\, WI
UID:e.1255.16181
SEQUENCE:3
DTSTAMP:20260422T191909Z
URL:https://business.oregonwi.com/events/details/opi-trivia-night-16181
END:VEVENT

END:VCALENDAR
