BEGIN:VCALENDAR
VERSION:2.0
PRODID:-//ChamberMaster//Event Calendar 2.0//EN
METHOD:PUBLISH
X-PUBLISHED-TTL:P3D
REFRESH-INTERVAL:P3D
CALSCALE:GREGORIAN
BEGIN:VEVENT
DTSTART:20241104T211500Z
DTEND:20241104T221500Z
X-MICROSOFT-CDO-ALLDAYEVENT:FALSE
SUMMARY:Tween Game Club (grades 4-6)
DESCRIPTION:Tweens in grades 4-6 can come to the library after school to play video games on the Nintendo Switch or popular board games like Uno\, Jenga\, Exploding Kittens\, and Taco Cat Goat Cheese Pizza. No need to bring your own Switch equipment.
X-ALT-DESC;FMTTYPE=text/html:<span style="color:rgb(68\, 68\, 68)\; font-family:roboto\,sans-serif\; font-size:16px">Tweens in grades 4-6 can come to the library after school to play video games on the Nintendo Switch or popular board games like Uno\, Jenga\, Exploding Kittens\, and Taco Cat Goat Cheese Pizza. No need to bring your own Switch equipment.&nbsp\;</span>
LOCATION:Oregon Public Library\, Makerspace
UID:e.1255.14706
SEQUENCE:3
DTSTAMP:20260420T052536Z
URL:https://business.oregonwi.com/events/details/tween-game-club-grades-4-6-11-04-2024-14706
END:VEVENT

END:VCALENDAR
