BEGIN:VCALENDAR
VERSION:2.0
PRODID:-//ChamberMaster//Event Calendar 2.0//EN
METHOD:PUBLISH
X-PUBLISHED-TTL:P3D
REFRESH-INTERVAL:P3D
CALSCALE:GREGORIAN
BEGIN:VEVENT
DTSTART:20260425T200000Z
DTEND:20260425T230000Z
X-MICROSOFT-CDO-ALLDAYEVENT:FALSE
SUMMARY:Waffletini Tasting
DESCRIPTION:Enjoy your choice of a Bad Art Co specialty martini with a waffle bar! 21+ 3-6pm $25
X-ALT-DESC;FMTTYPE=text/html:<span style="color: rgb(119\, 0\, 196)\; font-family: questrial\, sans-serif\; font-size: 16px\; white-space: pre-line\;">Enjoy your choice of a Bad Art Co specialty martini with a waffle bar! 21+ 3-6pm $25</span>
LOCATION:Bad Art Co\, 787 N Main St Suite 105\, Oregon\, WI
UID:e.1255.16183
SEQUENCE:3
DTSTAMP:20260422T191604Z
URL:https://business.oregonwi.com/events/details/waffletini-tasting-16183
END:VEVENT

END:VCALENDAR
